BEGIN:VCALENDAR
VERSION:2.0
PRODID:-//Natuurlijkheden - ECPv6.15.11//NONSGML v1.0//EN
CALSCALE:GREGORIAN
METHOD:PUBLISH
X-WR-CALNAME:Natuurlijkheden
X-ORIGINAL-URL:https://natuurlijkheden.nl
X-WR-CALDESC:Evenementen voor Natuurlijkheden
REFRESH-INTERVAL;VALUE=DURATION:PT1H
X-Robots-Tag:noindex
X-PUBLISHED-TTL:PT1H
BEGIN:VTIMEZONE
TZID:Europe/Amsterdam
BEGIN:DAYLIGHT
TZOFFSETFROM:+0100
TZOFFSETTO:+0200
TZNAME:CEST
DTSTART:20230326T010000
END:DAYLIGHT
BEGIN:STANDARD
TZOFFSETFROM:+0200
TZOFFSETTO:+0100
TZNAME:CET
DTSTART:20231029T010000
END:STANDARD
BEGIN:DAYLIGHT
TZOFFSETFROM:+0100
TZOFFSETTO:+0200
TZNAME:CEST
DTSTART:20240331T010000
END:DAYLIGHT
BEGIN:STANDARD
TZOFFSETFROM:+0200
TZOFFSETTO:+0100
TZNAME:CET
DTSTART:20241027T010000
END:STANDARD
BEGIN:DAYLIGHT
TZOFFSETFROM:+0100
TZOFFSETTO:+0200
TZNAME:CEST
DTSTART:20250330T010000
END:DAYLIGHT
BEGIN:STANDARD
TZOFFSETFROM:+0200
TZOFFSETTO:+0100
TZNAME:CET
DTSTART:20251026T010000
END:STANDARD
END:VTIMEZONE
BEGIN:VEVENT
DTSTART;TZID=Europe/Amsterdam:20240818T080000
DTEND;TZID=Europe/Amsterdam:20240822T110000
DTSTAMP:20260420T234335
CREATED:20240404T112515Z
LAST-MODIFIED:20251021T105031Z
UID:3287-1723968000-1724324400@natuurlijkheden.nl
SUMMARY:Eigentijds Kinderfestival Ecolonie
DESCRIPTION:Eigentijds Kinderfestival Ecolonie 18 t/m 22 aug 2024.\nIk draai wegens succes van vorig jaar\nopnieuw het programma voor 13-15 jarigen\n“Overleven in het bos”.\nIk voer het uit samen met Ron Hoenderboom\, en is zelfs een tweede groep met een nieuw team. \nwww.eigentijdskinderfestival.nl
URL:https://natuurlijkheden.nl/event/eigentijds-kinderfestival-ecolonie-2/
CATEGORIES:Kinderactiviteit
ATTACH;FMTTYPE=image/jpeg:https://natuurlijkheden.nl/wp-content/uploads/firesteel.jpg
END:VEVENT
END:VCALENDAR